BEGIN:VCALENDAR
VERSION:2.0
METHOD:PUBLISH
PRODID:-//Accessible Web Design//My Calendar//http://www.joedolson.com//v//EN';
BEGIN:VEVENT
UID:906-95
LOCATION:
SUMMARY:Réservé
DTSTAMP:20260407T000000
ORGANIZER;CN=admin8525:MAILTO:unrefugeacachen@gmail.com
DTSTART:20260407T000000
DTEND:20260408T010000
CATEGORIES:Chambre exotique
URL;VALUE=URI:https://unrefugeacachen.com/mc-events/reserve-55/?mc_id=906
DESCRIPTION:
END:VEVENT
END:VCALENDAR