BEGIN:VCALENDAR
VERSION:2.0
METHOD:PUBLISH
PRODID:-//Accessible Web Design//My Calendar//http://www.joedolson.com//v//EN';
BEGIN:VEVENT
UID:874-64
LOCATION:
SUMMARY:Réservé
DTSTAMP:20250822
ORGANIZER;CN=admin8525:MAILTO:unrefugeacachen@gmail.com
DTSTART:20250822
DTEND:20250825
CATEGORIES:Chambre exotique
URL;VALUE=URI:https://unrefugeacachen.com/mc-events/reserve-14/?mc_id=874
DESCRIPTION:
X-FUNAMBOL-ALLDAY: 1
X-MICROSOFT-CDO-ALLDAYEVENT: TRUE

END:VEVENT
END:VCALENDAR