BEGIN:VCALENDAR
VERSION:2.0
METHOD:PUBLISH
PRODID:-//Accessible Web Design//My Calendar//http://www.joedolson.com//v//EN';
BEGIN:VEVENT
UID:872-62
LOCATION:
SUMMARY:Réservé
DTSTAMP:20250809T000000
ORGANIZER;CN=admin8525:MAILTO:unrefugeacachen@gmail.com
DTSTART:20250809T000000
DTEND:20250810T010000
CATEGORIES:Chambre exotique
URL;VALUE=URI:https://unrefugeacachen.com/mc-events/reserve-8/?mc_id=872
DESCRIPTION:
END:VEVENT
END:VCALENDAR