BEGIN:VCALENDAR
VERSION:2.0
METHOD:PUBLISH
PRODID:-//Accessible Web Design//My Calendar//http://www.joedolson.com//v//EN';
BEGIN:VEVENT
UID:870-60
LOCATION:
SUMMARY:Réservé
DTSTAMP:20250726T000000
ORGANIZER;CN=admin8525:MAILTO:unrefugeacachen@gmail.com
DTSTART:20250726T000000
DTEND:20250727T010000
CATEGORIES:Chambre exotique
URL;VALUE=URI:https://unrefugeacachen.com/mc-events/reserve/?mc_id=870
DESCRIPTION:
END:VEVENT
END:VCALENDAR