BEGIN:VCALENDAR
VERSION:2.0
METHOD:PUBLISH
PRODID:-//Accessible Web Design//My Calendar//http://www.joedolson.com//v//EN';
BEGIN:VEVENT
UID:907-72
LOCATION:
SUMMARY:Réservé
DTSTAMP:20260418
ORGANIZER;CN=admin8525:MAILTO:unrefugeacachen@gmail.com
DTSTART:20260418
DTEND:20260419
CATEGORIES:Chambre exotique
URL;VALUE=URI:https://unrefugeacachen.com/mc-events/reserve-56/?mc_id=907
DESCRIPTION:
X-FUNAMBOL-ALLDAY: 1
X-MICROSOFT-CDO-ALLDAYEVENT: TRUE

END:VEVENT
END:VCALENDAR